BEGIN:VCALENDAR
VERSION:2.0
PRODID:-//JDR: Consultoría TIC &amp; Records Management - ECPv6.15.20//NONSGML v1.0//EN
CALSCALE:GREGORIAN
METHOD:PUBLISH
X-ORIGINAL-URL:https://www.consultorjdr.com
X-WR-CALDESC:Eventos para JDR: Consultoría TIC &amp; Records Management
REFRESH-INTERVAL;VALUE=DURATION:PT1H
X-Robots-Tag:noindex
X-PUBLISHED-TTL:PT1H
BEGIN:VTIMEZONE
TZID:America/Halifax
BEGIN:DAYLIGHT
TZOFFSETFROM:-0400
TZOFFSETTO:-0300
TZNAME:ADT
DTSTART:20170312T060000
END:DAYLIGHT
BEGIN:STANDARD
TZOFFSETFROM:-0300
TZOFFSETTO:-0400
TZNAME:AST
DTSTART:20171105T050000
END:STANDARD
BEGIN:DAYLIGHT
TZOFFSETFROM:-0400
TZOFFSETTO:-0300
TZNAME:ADT
DTSTART:20180311T060000
END:DAYLIGHT
BEGIN:STANDARD
TZOFFSETFROM:-0300
TZOFFSETTO:-0400
TZNAME:AST
DTSTART:20181104T050000
END:STANDARD
BEGIN:DAYLIGHT
TZOFFSETFROM:-0400
TZOFFSETTO:-0300
TZNAME:ADT
DTSTART:20190310T060000
END:DAYLIGHT
BEGIN:STANDARD
TZOFFSETFROM:-0300
TZOFFSETTO:-0400
TZNAME:AST
DTSTART:20191103T050000
END:STANDARD
END:VTIMEZONE
BEGIN:VEVENT
DTSTART;TZID=America/Halifax:20180816T180000
DTEND;TZID=America/Halifax:20180816T200000
DTSTAMP:20260423T183738
CREATED:20180808T022718Z
LAST-MODIFIED:20180813T175910Z
UID:321-1534442400-1534449600@www.consultorjdr.com
SUMMARY:Agosto 16: Gestión del tiempo y de las tareas - Grupo 2
DESCRIPTION:¡ÚLTIMAS PLAZAS!\nInfo: 994145000 \n¿Por qué asistir?\nEl taller de GESTIÓN DEL TIEMPO Y DE LAS TAREAS es un espacio práctico que le ayudará a los asistentes a identificar tareas y actividades que llevan al cumplimiento de objetivos y/o entregables. Permite el aprendizaje práctico sobre cómo definir un alcance y cómo crear actividades o tareas relacionadas. También permite aprender a programar trabajo colaborativo con el uso de herramientas tecnológicas. \n¿Qué temas se desarrollarán?\n\nBreve introducción\nDefinición ágil de alcance\nTécnica de descomposición\nPrioridad y secuenciamiento de tareas\nAplicación con herramienta tecnológica\n\n¿A quién está dirigido?\nA directores\, líderes o jefes de dependencias de recursos humanos de empresas públicas o privadas paraguayas de cualquier sector productivo o de servicios. La capacitación también servirá como demostración de una metodología de aprendizaje basada en el uso de dispositivos electrónicos online. \nLos asistentes podrán ganar una Tablet Huawei que se entregará al asistente que cumpla las condiciones académicas y de asistencia al evento \nComparte esto:Tweet\n				Share on WhatsApp (Se abre en una ventana nueva)\n				WhatsApp
URL:https://www.consultorjdr.com/event/gestion-del-tiempo-y-de-las-tareas-grupo-2/
LOCATION:Club de ejecutivos del Paraguay\, Avda. España 766 c/ Gral. Garay.\, Asunción 0766\, Paraguay\, Asunción\, Paraguay
ATTACH;FMTTYPE=image/png:https://www.consultorjdr.com/wp-content/uploads/2018/08/portada_evento.png
ORGANIZER;CN="Jose David Rodriguez Rojas":MAILTO:jdrodri@gmail.com
END:VEVENT
BEGIN:VEVENT
DTSTART;TZID=America/Halifax:20180814T180000
DTEND;TZID=America/Halifax:20180814T200000
DTSTAMP:20260423T183738
CREATED:20180808T022118Z
LAST-MODIFIED:20180813T174354Z
UID:312-1534269600-1534276800@www.consultorjdr.com
SUMMARY:Agosto 14: Gestión del tiempo y de las tareas - Grupo 1
DESCRIPTION:¡ÚLTIMAS PLAZAS!\nInfo: 994145000 \n¿Por qué asistir?\nEl taller de GESTIÓN DEL TIEMPO Y DE LAS TAREAS es un espacio práctico que le ayudará a los asistentes a identificar tareas y actividades que llevan al cumplimiento de objetivos y/o entregables. Permite el aprendizaje práctico sobre cómo definir un alcance y cómo crear actividades o tareas relacionadas. También permite aprender a programar trabajo colaborativo con el uso de herramientas tecnológicas. \n¿Qué temas se desarrollarán?\n\nBreve introducción\nDefinición ágil de alcance\nTécnica de descomposición\nPrioridad y secuenciamiento de tareas\nAplicación con herramienta tecnológica\n\n¿A quién está dirigido?\nA directores\, líderes o jefes de dependencias de recursos humanos de empresas públicas o privadas paraguayas de cualquier sector productivo o de servicios. La capacitación también servirá como demostración de una metodología de aprendizaje basada en el uso de dispositivos electrónicos online. \nLos asistentes podrán ganar una Tablet Huawei que se entregará al asistente que cumpla las condiciones académicas y de asistencia al evento \nComparte esto:Tweet\n				Share on WhatsApp (Se abre en una ventana nueva)\n				WhatsApp
URL:https://www.consultorjdr.com/event/gestion-del-tiempo-y-de-las-tareas-grupo-1/
LOCATION:Club de ejecutivos del Paraguay\, Avda. España 766 c/ Gral. Garay.\, Asunción 0766\, Paraguay\, Asunción\, Paraguay
ATTACH;FMTTYPE=image/png:https://www.consultorjdr.com/wp-content/uploads/2018/08/portada_evento.png
ORGANIZER;CN="Jose David Rodriguez Rojas":MAILTO:jdrodri@gmail.com
END:VEVENT
END:VCALENDAR